



BEGIN:VCALENDAR
VERSION:2.0
PRODID:-//Handball-Camp
CALSCALE:GREGORIAN
METHOD:PUBLISH
X-WR-CALNAME:Handball-Camp
X-ORIGINAL-URL:https://www.handball-camp.de/produkt/thw-handball-camp-mit-dem-hv-90-klingenthal-6bis10-jahre/
X-WR-CALDESC:Geschützt: THW Handball-Camp
BEGIN:VTIMEZONE
TZID:Europe/Helsinki
END:VTIMEZONE
BEGIN:VEVENT
DTSTART;TZID=Europe/Helsinki:20260515T143000
DTEND;TZID=Europe/Helsinki:20260517T123000
DTSTAMP:20260425T152422
UID:108348-post@pixelwerft.de
SUMMARY:Geschützt: THW Handball-Camp
DESCRIPTION:Bälle fliegen durch die Halle, Kinderaugen leuchten, Handball-Herzen schlagen höher – das ist das THW Handball-Camp!Mit ganz viel Spaß, Bewegung und Teamgeist lernen die Kids spielerisch den Handball kennen. Unsere Trainer*innen fördern jedes Kind mit Leidenschaft und Camp-Erfahrung und schaffen dabei ein unvergessliches Camp-Erlebnis voller Freude, neuer Freundschaften und jeder Menge Action!
URL:https://www.handball-camp.de/produkt/thw-handball-camp-mit-dem-hv-90-klingenthal-6bis10-jahre/
LOCATION:Amtsberg 20, 08248 Klingenthal
END:VEVENT
END:VCALENDAR
