



BEGIN:VCALENDAR
VERSION:2.0
PRODID:-//Handball-Camp
CALSCALE:GREGORIAN
METHOD:PUBLISH
X-WR-CALNAME:Handball-Camp
X-ORIGINAL-URL:https://www.handball-camp.de/produkt/thw-handball-camp-mit-dem-hv-90-klingenthal-11bis15-jahre/
X-WR-CALDESC:THW Handball-Camp
BEGIN:VTIMEZONE
TZID:Europe/Helsinki
END:VTIMEZONE
BEGIN:VEVENT
DTSTART;TZID=Europe/Helsinki:20260515T173000
DTEND;TZID=Europe/Helsinki:20260517T173000
DTSTAMP:20260425T152834
UID:111242-post@pixelwerft.de
SUMMARY:THW Handball-Camp
DESCRIPTION:Bälle fliegen durch die Halle, Kinderaugen leuchten, Handball-Herzen schlagen höher – das ist das THW Handball-Camp!Mit Expertise, Engagement und echtem Teamspirit fördern wir junge Handballer*innen. Technik, Taktik und Spielfreude stehen im Fokus – für alle, die ihren Handball auf das nächste Level bringen wollen. Ein Camp, das begeistert und in Erinnerung bleibt!
URL:https://www.handball-camp.de/produkt/thw-handball-camp-mit-dem-hv-90-klingenthal-11bis15-jahre/
LOCATION:Amtsberg 20, 08248 Klingenthal
END:VEVENT
END:VCALENDAR
