



BEGIN:VCALENDAR
VERSION:2.0
PRODID:-//Handball-Camp
CALSCALE:GREGORIAN
METHOD:PUBLISH
X-WR-CALNAME:Handball-Camp
X-ORIGINAL-URL:https://www.handball-camp.de/produkt/hamburg-handball-camp-mit-der-hsg-seevetal-ashausen-2026/
X-WR-CALDESC:Hamburg Handball-Camp
BEGIN:VTIMEZONE
TZID:Europe/Helsinki
END:VTIMEZONE
BEGIN:VEVENT
DTSTART;TZID=Europe/Helsinki:20261019T093000
DTEND;TZID=Europe/Helsinki:20261023T130000
DTSTAMP:20260425T180542
UID:111247-post@pixelwerft.de
SUMMARY:Hamburg Handball-Camp
DESCRIPTION:Bälle fliegen durch die Halle, Kinderaugen leuchten, Handball-Herzen schlagen höher – das ist das Handball-Camp!Mit Expertise, Engagement und echtem Teamspirit fördern wir junge Handballer*innen. Technik, Taktik und Spielfreude stehen im Fokus – Ein Camp, das begeistert und in Erinnerung bleibt! Dank dem HSV Hamburg mit einem besonderen Highlight und Besuch eines Spielers!
URL:https://www.handball-camp.de/produkt/hamburg-handball-camp-mit-der-hsg-seevetal-ashausen-2026/
LOCATION:Holtorfsloher Weg 13, 21435 Stelle
END:VEVENT
END:VCALENDAR
