



BEGIN:VCALENDAR
VERSION:2.0
PRODID:-//Handball-Camp
CALSCALE:GREGORIAN
METHOD:PUBLISH
X-WR-CALNAME:Handball-Camp
X-ORIGINAL-URL:https://www.handball-camp.de/produkt/handball-power-camp-mit-der-hsg-oberhessen-2026/
X-WR-CALDESC:Geschützt: Handball Power-Camp
BEGIN:VTIMEZONE
TZID:Europe/Helsinki
END:VTIMEZONE
BEGIN:VEVENT
DTSTART;TZID=Europe/Helsinki:20261014T000000
DTEND;TZID=Europe/Helsinki:20261016T000000
DTSTAMP:20260425T152550
UID:111251-post@pixelwerft.de
SUMMARY:Geschützt: Handball Power-Camp
DESCRIPTION:Bälle fliegen durch die Halle, Kinderaugen leuchten, Handball-Herzen schlagen höher – das ist das Handball-Camp!Mit Expertise, Engagement und echtem Teamspirit fördern wir junge Handballer*innen. Technik, Taktik und Spielfreude stehen im Fokus – für alle, die ihren Handball auf das nächste Level bringen wollen. Ein Camp, das begeistert und in Erinnerung bleibt!
URL:https://www.handball-camp.de/produkt/handball-power-camp-mit-der-hsg-oberhessen-2026/
LOCATION:Wilhelm-Lückert Straße · 63654 Büdingen
END:VEVENT
END:VCALENDAR
