



BEGIN:VCALENDAR
VERSION:2.0
PRODID:-//Handball-Camp
CALSCALE:GREGORIAN
METHOD:PUBLISH
X-WR-CALNAME:Handball-Camp
X-ORIGINAL-URL:https://www.handball-camp.de/produkt/handball-power-camp-mit-dem-tv-petterweil/
X-WR-CALDESC:Handball Power-Camp
BEGIN:VTIMEZONE
TZID:Europe/Helsinki
END:VTIMEZONE
BEGIN:VEVENT
DTSTART;TZID=Europe/Helsinki:20260720T133000
DTEND;TZID=Europe/Helsinki:20260723T180000
DTSTAMP:20260425T153031
UID:111256-post@pixelwerft.de
SUMMARY:Handball Power-Camp
DESCRIPTION:Bälle fliegen durch die Halle, Kinderaugen leuchten, Handball-Herzen schlagen höher – das ist das Handball-Camp!Mit Expertise, Engagement und echtem Teamspirit fördern wir junge Handballer*innen. Technik, Taktik und Spielfreude stehen im Fokus – für alle, die ihren Handball auf das nächste Level bringen wollen. Ein Camp, das begeistert und in Erinnerung bleibt!
URL:https://www.handball-camp.de/produkt/handball-power-camp-mit-dem-tv-petterweil/
LOCATION:Sauerbornstr. 27, 61184 Karben
END:VEVENT
END:VCALENDAR
