



BEGIN:VCALENDAR
VERSION:2.0
PRODID:-//Handball-Camp
CALSCALE:GREGORIAN
METHOD:PUBLISH
X-WR-CALNAME:Handball-Camp
X-ORIGINAL-URL:https://www.handball-camp.de/produkt/thw-handball-camp-mit-der-jsg-himmelpforten-oldendorf-2016-bis-2020/
X-WR-CALDESC:THW Handball-Camp
BEGIN:VTIMEZONE
TZID:Europe/Helsinki
END:VTIMEZONE
BEGIN:VEVENT
DTSTART;TZID=Europe/Helsinki:20260703T093000
DTEND;TZID=Europe/Helsinki:20260705T130000
DTSTAMP:20260421T161139
UID:111954-post@pixelwerft.de
SUMMARY:THW Handball-Camp
DESCRIPTION:Bälle fliegen durch die Halle, Kinderaugen leuchten, Handball-Herzen schlagen höher – das ist das THW Handball-Camp!Mit ganz viel Spaß, Bewegung und Teamgeist lernen die Kids spielerisch den Handball kennen. Unsere Trainer*innen fördern jedes Kind mit Leidenschaft und Camp-Erfahrung und schaffen dabei ein unvergessliches Camp-Erlebnis voller Freude, neuer Freundschaften und jeder Menge Action!
URL:https://www.handball-camp.de/produkt/thw-handball-camp-mit-der-jsg-himmelpforten-oldendorf-2016-bis-2020/
LOCATION:Sunder Str. 25, 21726 Oldendorf
END:VEVENT
END:VCALENDAR
