



BEGIN:VCALENDAR
VERSION:2.0
PRODID:-//Handball-Camp
CALSCALE:GREGORIAN
METHOD:PUBLISH
X-WR-CALNAME:Handball-Camp
X-ORIGINAL-URL:https://www.handball-camp.de/produkt/thw-handball-camp-mit-der-hsg-sinzig-remagen-ahrweiler-jahrgaenge-2014-bis-2017/
X-WR-CALDESC:THW Handball-Camp
BEGIN:VTIMEZONE
TZID:Europe/Helsinki
END:VTIMEZONE
BEGIN:VEVENT
DTSTART;TZID=Europe/Helsinki:20260605T090000
DTEND;TZID=Europe/Helsinki:20260606T123000
DTSTAMP:20260421T155203
UID:112120-post@pixelwerft.de
SUMMARY:THW Handball-Camp
DESCRIPTION:Bälle fliegen durch die Halle, Kinderaugen leuchten, Handball-Herzen schlagen höher – das ist das THW Handball-Camp!Mit ganz viel Spaß, Bewegung und Teamgeist lernen die Kids spielerisch den Handball kennen. Unsere Trainer*innen fördern jedes Kind mit Leidenschaft und Camp-Erfahrung und schaffen dabei ein unvergessliches Camp-Erlebnis voller Freude, neuer Freundschaften und jeder Menge Action!
URL:https://www.handball-camp.de/produkt/thw-handball-camp-mit-der-hsg-sinzig-remagen-ahrweiler-jahrgaenge-2014-bis-2017/
LOCATION:Rheinhalle Remagen / Goethestraße 25, 53424 Remagen
END:VEVENT
END:VCALENDAR
