



BEGIN:VCALENDAR
VERSION:2.0
PRODID:-//Handball-Camp
CALSCALE:GREGORIAN
METHOD:PUBLISH
X-WR-CALNAME:Handball-Camp
X-ORIGINAL-URL:https://www.handball-camp.de/produkt/handballschule-mit-dem-hc-lauchringen/
X-WR-CALDESC:Handballschule
BEGIN:VTIMEZONE
TZID:Europe/Helsinki
END:VTIMEZONE
BEGIN:VEVENT
DTSTART;TZID=Europe/Helsinki:20261028T080000
DTEND;TZID=Europe/Helsinki:20261031T123000
DTSTAMP:20260425T152101
UID:112135-post@pixelwerft.de
SUMMARY:Handballschule
DESCRIPTION:Bälle fliegen durch die Halle, Kinder-Augen leuchten, Handball-Herzen schlagen höher - Das ist Handball-Camp! – unsere Handballschule für alle handballbegeisterten Kinder! Spaß an Bewegung, Teamgeist und einem einzigartigen Trainingskonzept bieten wir ein Ferienerlebnis, das begeistert – egal ob du Handball-Neuling bist oder schon Erfahrung mitbringst!
URL:https://www.handball-camp.de/produkt/handballschule-mit-dem-hc-lauchringen/
LOCATION:Hohrainstrasse 57, 79787 Lauchringen
END:VEVENT
END:VCALENDAR
