



BEGIN:VCALENDAR
VERSION:2.0
PRODID:-//Handball-Camp
CALSCALE:GREGORIAN
METHOD:PUBLISH
X-WR-CALNAME:Handball-Camp
X-ORIGINAL-URL:https://www.handball-camp.de/produkt/thw-handball-camp-mit-uebernachtung-im-thw-leistungszentrum-13/
X-WR-CALDESC:THW Handball-Camp
BEGIN:VTIMEZONE
TZID:Europe/Helsinki
END:VTIMEZONE
BEGIN:VEVENT
DTSTART;TZID=Europe/Helsinki:20261019T000000
DTEND;TZID=Europe/Helsinki:20261023T000000
DTSTAMP:20260420T095912
UID:41290-post@pixelwerft.de
SUMMARY:THW Handball-Camp
DESCRIPTION:THW Handball-Camp – Wir l(i)eben Handball! Bälle fliegen, Kinder-Augen leuchten, Handball-Herzen schlagen höher – das ist das THW Handball-Camp! In deinen Ferien heißt es: 5 Tage voller Spaß, Action und Handball pur!
URL:https://www.handball-camp.de/produkt/thw-handball-camp-mit-uebernachtung-im-thw-leistungszentrum-13/
LOCATION:Rehmkamp 1, Altenholz, Deutschland
END:VEVENT
END:VCALENDAR
